BEGIN:VCALENDAR
VERSION:2.0
PRODID:-//https://roever-logistikschulungen.de///NONSGML kigkonsult.se iCalcreator 2.10.15//
METHOD:PUBLISH
BEGIN:VEVENT
UID:20260421T134452CEST-5785XhVpU4@https://roever-logistikschulungen.de/
DTSTAMP:20260421T114452Z
DESCRIPTION: https://roever-logistikschulungen.de/component/rseventspro/eve
 nt/1709-ausbilder-fuer-flurfoerderzeuge-in-kleingruppen-schulungsort-herma
 nn-blenk-strasse-32-38108-braunschweig?Itemid=129
DTSTART:20260805T073000Z
DTEND:20260807T150000Z
LOCATION:Hermann Blenk Straße 32\, 38108 Braunschweig (Hermann Blenk Straße
  32\, 38108 Braunschweig)
SUMMARY:Ausbilder für Flurförderzeuge in Kleingruppen Schulungsort: Hermann
 -Blenk-Straße 32\, 38108 Braunschweig
URL:https://roever-logistikschulungen.de/component/rseventspro/event/1709-a
 usbilder-fuer-flurfoerderzeuge-in-kleingruppen-schulungsort-hermann-blenk-
 strasse-32-38108-braunschweig?Itemid=129
END:VEVENT
END:VCALENDAR
