BEGIN:VCALENDAR
VERSION:2.0
PRODID:-//https://roever-logistikschulungen.de///NONSGML kigkonsult.se iCalcreator 2.10.15//
METHOD:PUBLISH
BEGIN:VEVENT
UID:20260421T134528CEST-4355Aucua0@https://roever-logistikschulungen.de/
DTSTAMP:20260421T114528Z
DESCRIPTION: https://roever-logistikschulungen.de/component/rseventspro/eve
 nt/1708-ausbilder-fuer-flurfoerderzeuge-in-kleingruppen-schulungsort-dortm
 under-strasse-18-28199-bremen?Itemid=129
DTSTART:20260708T063000Z
DTEND:20260710T140000Z
LOCATION:Dortmunder Straße 18\, 28199 Bremen (Dortmunder Straße 18\, 28199 
 Bremen)
SUMMARY:Ausbilder für Flurförderzeuge in Kleingruppen Schulungsort: Dortmun
 der Straße 18\, 28199 Bremen
URL:https://roever-logistikschulungen.de/component/rseventspro/event/1708-a
 usbilder-fuer-flurfoerderzeuge-in-kleingruppen-schulungsort-dortmunder-str
 asse-18-28199-bremen?Itemid=129
END:VEVENT
END:VCALENDAR
