BEGIN:VCALENDAR
VERSION:2.0
PRODID:-//https://roever-logistikschulungen.de///NONSGML kigkonsult.se iCalcreator 2.10.15//
METHOD:PUBLISH
BEGIN:VEVENT
UID:20260421T134958CEST-3565PU52ZT@https://roever-logistikschulungen.de/
DTSTAMP:20260421T114958Z
DESCRIPTION: https://roever-logistikschulungen.de/component/rseventspro/eve
 nt/1706-ausbilder-fuer-flurfoerderzeuge-in-kleingruppen-schulungsort-hilde
 sheimer-str-353-30880-laatzen?Itemid=129
DTSTART:20260511T063000Z
DTEND:20260513T140000Z
LOCATION:Hildesheimer Str. 353\, 30880 Laatzen  (Hildesheimer Str. 353\, 30
 880 Laatzen )
SUMMARY:Ausbilder für Flurförderzeuge in Kleingruppen Schulungsort: Hildesh
 eimer Str. 353\, 30880 Laatzen 
URL:https://roever-logistikschulungen.de/component/rseventspro/event/1706-a
 usbilder-fuer-flurfoerderzeuge-in-kleingruppen-schulungsort-hildesheimer-s
 tr-353-30880-laatzen?Itemid=129
END:VEVENT
END:VCALENDAR
